BEGIN:VCALENDAR
VERSION:2.0
PRODID:-//Devpost\, Inc.//Calgary Maker Faire 2026 Designathon University L
 evel//EN
CALSCALE:GREGORIAN
BEGIN:VTIMEZONE
TZID:America/Denver
BEGIN:DAYLIGHT
DTSTART:20260308T030000
TZOFFSETFROM:-0700
TZOFFSETTO:-0600
RRULE:FREQ=YEARLY;BYDAY=2SU;BYMONTH=3
TZNAME:MDT
END:DAYLIGHT
BEGIN:STANDARD
DTSTART:20261101T010000
TZOFFSETFROM:-0600
TZOFFSETTO:-0700
RRULE:FREQ=YEARLY;BYDAY=1SU;BYMONTH=11
TZNAME:MST
END:STANDARD
END:VTIMEZONE
BEGIN:VEVENT
DTSTAMP:20260420T210542Z
UID:77cdf6a8-dd7e-4125-90d2-1ef8b37a8c67
DTSTART;TZID=America/Denver:20260503T100000
DTEND;TZID=America/Denver:20260503T100000
DESCRIPTION:https://cmf-uni-2026-designathon.devpost.com/
SUMMARY:Calgary Maker Faire 2026 Designathon University Level submission de
 adline
BEGIN:VALARM
ACTION:DISPLAY
TRIGGER:-P7D
SUMMARY:Just 7 left days until the submission deadline!
END:VALARM
END:VEVENT
END:VCALENDAR
